BEGIN:VCALENDAR
VERSION:2.0
PRODID:-//eventon.com NONSGML v1.0//EN
CALSCALE:GREGORIAN
METHOD:PUBLISH
BEGIN:VEVENT
UID:69e7716b33c0d
DTSTAMP:20260421T124531Z
DTSTART:20260508T180000Z
DTEND:20260508T193000Z
LOCATION:
SUMMARY:STEVEN GELLMANN SIGNING SOMEWHERE IN NOWHERE
DESCRIPTION:Steven Gellmann signing Somewhere in Nowhere Coming out is hard
 \,  especially when you have two gay moms. At least it is for Simon Bugg. H
 e doesn't want the world to think that having gay parents has turned him ga
 y. And he certainly doesn't want anyone to know about the alien[..]\nhttps:
 //queerbooks.com/events/steven-gellmann-signing-somewhere-in-nowhere/
URL:https://queerbooks.com/events/steven-gellmann-signing-somewhere-in-nowhere/
END:VEVENT
END:VCALENDAR